BEGIN:VCALENDAR
VERSION:2.0
PRODID:-//UCLA Asian American Studies Department - ECPv6.15.17.1//NONSGML v1.0//EN
CALSCALE:GREGORIAN
METHOD:PUBLISH
X-WR-CALNAME:UCLA Asian American Studies Department
X-ORIGINAL-URL:https://asianam.ucla.edu
X-WR-CALDESC:Events for UCLA Asian American Studies Department
REFRESH-INTERVAL;VALUE=DURATION:PT1H
X-Robots-Tag:noindex
X-PUBLISHED-TTL:PT1H
BEGIN:VTIMEZONE
TZID:America/Los_Angeles
BEGIN:DAYLIGHT
TZOFFSETFROM:-0800
TZOFFSETTO:-0700
TZNAME:PDT
DTSTART:20250309T100000
END:DAYLIGHT
BEGIN:STANDARD
TZOFFSETFROM:-0700
TZOFFSETTO:-0800
TZNAME:PST
DTSTART:20251102T090000
END:STANDARD
BEGIN:DAYLIGHT
TZOFFSETFROM:-0800
TZOFFSETTO:-0700
TZNAME:PDT
DTSTART:20260308T100000
END:DAYLIGHT
BEGIN:STANDARD
TZOFFSETFROM:-0700
TZOFFSETTO:-0800
TZNAME:PST
DTSTART:20261101T090000
END:STANDARD
BEGIN:DAYLIGHT
TZOFFSETFROM:-0800
TZOFFSETTO:-0700
TZNAME:PDT
DTSTART:20270314T100000
END:DAYLIGHT
BEGIN:STANDARD
TZOFFSETFROM:-0700
TZOFFSETTO:-0800
TZNAME:PST
DTSTART:20271107T090000
END:STANDARD
END:VTIMEZONE
BEGIN:VEVENT
DTSTART;TZID=America/Los_Angeles:20260227T190000
DTEND;TZID=America/Los_Angeles:20260227T200000
DTSTAMP:20260424T053755
CREATED:20260218T221835Z
LAST-MODIFIED:20260218T221835Z
UID:11795-1772218800-1772222400@asianam.ucla.edu
SUMMARY:Film Screening: Third Act by Tad Nakamura '03
DESCRIPTION:UCLA School of Theater\, Film and Television\, in collaboration with the UCLA Asian American Studies Center and UCLA Asian American Studies Department\, present Third Act\, by Tad Nakamura ’03 about his father Robert Nakamura MFA ’75\, director\, UCLA film professor\, and founder of the UCLA Center for EthnoCommunications.  Join us for this special screening and conversation. About the film: “Generations of artists call Robert A. Nakamura “The Godfather of Asian American film\,” but his son\, Tad\, calls him Dad. As the filmmaking son of a filmmaking legend\, Tad uses the lessons his dad taught him to decipher the legacy of an aging man who was a child survivor of the WWII incarceration of Japanese Americans\, a successful photographer who gave it up to tell his own story\, an activist at the dawn of a social movement—and a father whose struggles have won his son freedoms that eluded Japanese Americans of his generation. As Parkinson’s Disease clouds his memory\, Tad sets out to retrieve his story—and in the process discovers his own. The two have made films together\, with Robert always by Tad’s side.” \nOfficial Selection of the Sundance Film Festival! Don’t miss this powerful and moving film followed by an exclusive conversation with the director himself! \nCome early for the lobby reception\, connect with community\, and celebrate Asian American storytelling on the big screen! \nReception at 6:00 PM | Screening at 7:00 PM \nSeats will fill up FAST — RSVP now!
URL:https://asianam.ucla.edu/event/film-screening-third-act-by-tad-nakamura-03/
LOCATION:Darren Star Screening Room\, Melnitz 1422
END:VEVENT
END:VCALENDAR