BEGIN:VCALENDAR
VERSION:2.0
PRODID:-//UCLA Asian American Studies Department - ECPv6.15.17.1//NONSGML v1.0//EN
CALSCALE:GREGORIAN
METHOD:PUBLISH
X-WR-CALNAME:UCLA Asian American Studies Department
X-ORIGINAL-URL:https://asianam.ucla.edu
X-WR-CALDESC:Events for UCLA Asian American Studies Department
REFRESH-INTERVAL;VALUE=DURATION:PT1H
X-Robots-Tag:noindex
X-PUBLISHED-TTL:PT1H
BEGIN:VTIMEZONE
TZID:America/Los_Angeles
BEGIN:DAYLIGHT
TZOFFSETFROM:-0800
TZOFFSETTO:-0700
TZNAME:PDT
DTSTART:20250309T100000
END:DAYLIGHT
BEGIN:STANDARD
TZOFFSETFROM:-0700
TZOFFSETTO:-0800
TZNAME:PST
DTSTART:20251102T090000
END:STANDARD
BEGIN:DAYLIGHT
TZOFFSETFROM:-0800
TZOFFSETTO:-0700
TZNAME:PDT
DTSTART:20260308T100000
END:DAYLIGHT
BEGIN:STANDARD
TZOFFSETFROM:-0700
TZOFFSETTO:-0800
TZNAME:PST
DTSTART:20261101T090000
END:STANDARD
BEGIN:DAYLIGHT
TZOFFSETFROM:-0800
TZOFFSETTO:-0700
TZNAME:PDT
DTSTART:20270314T100000
END:DAYLIGHT
BEGIN:STANDARD
TZOFFSETFROM:-0700
TZOFFSETTO:-0800
TZNAME:PST
DTSTART:20271107T090000
END:STANDARD
END:VTIMEZONE
BEGIN:VEVENT
DTSTART;TZID=America/Los_Angeles:20260224T123000
DTEND;TZID=America/Los_Angeles:20260224T134500
DTSTAMP:20260424T053756
CREATED:20260218T215001Z
LAST-MODIFIED:20260218T215001Z
UID:11778-1771936200-1771940700@asianam.ucla.edu
SUMMARY:The Arrogance of Power Film Screening
DESCRIPTION:To mark the 40th anniversary of the Philippines’ EDSA People’s Power protests\, the Luskin AAPI Caucus at UCLA is hosting a film screening of the 1983 documentary\, “Arrogance of Power.” This documentary shows the fascist might of the Marcos regime and how militarization and human rights violations were institutionalized in Philippine political life. This event serves as a reminder of the vigilance required to protect human rights from abusive and corrupt powers.  \nJoin us as we discuss the historical importance of the EDSA Revolution and the lessons we pull from it to navigate today’s political climate. We will also share information about the UCLA Asian American Studies digital exhibit Never Forget\, a digital exhibition of political posters and oral histories chronicling the transnational Anti-Martial Law Movement. \nFilipino catering will be provided by LA Rose Cafe; spots are limited\, so food is first come first serve. \nAdditionally\, we will hold balikbayan box donation drive to support typhoon relief(which one/s?) in the Philippines\, in collaboration with the Filipino Migrant Center of Long Beach! We encourage folks to please bring medical supplies\, non-perishable goods\, and/or toiletries to donate for typhoon relief in the Philippines. To learn more about donation needs\, visit tinyurl.com/LuskinBalikbayan
URL:https://asianam.ucla.edu/event/the-arrogance-of-power-film-screening/
LOCATION:Public Affairs Building 4371
END:VEVENT
BEGIN:VEVENT
DTSTART;TZID=America/Los_Angeles:20260224T160000
DTEND;TZID=America/Los_Angeles:20260224T170000
DTSTAMP:20260424T053756
CREATED:20260219T225457Z
LAST-MODIFIED:20260219T225457Z
UID:11806-1771948800-1771952400@asianam.ucla.edu
SUMMARY:Forty Years Since the Philippines' People Power Revolution: Persisting Against Conditions of Martial Law
DESCRIPTION:Join us as we reflect on how a people’s uprising toppled a dictator’s two-decade rule—and examine the persistent conditions of martial law that continue to shape our present. Through stories and poetry\, we honor the strength of collective resistance and the enduring power of the people. \n This online event will feature speakers who will share\, through stories and poetry\, memories of how a people’s uprising toppled a dictator’s two-decade rule\, remind us of the persistent conditions of martial law\, and highlight the ongoing strength of people power. \nSpeakers and poetry readers include Xenia Tupas\, Joy Sales\, Josen Diaz\, Jason Magabo Perez\, with others from MALAYA MOVEMENT USA and Anak Bayan UCSC. Moderated by Lucy MSP Burns. \nEvent registration here
URL:https://asianam.ucla.edu/event/forty-years-since-the-philippines-people-power-revolution-persisting-against-conditions-of-martial-law/
LOCATION:Online via Zoom
END:VEVENT
END:VCALENDAR